BEGIN:VCALENDAR
VERSION:2.0
PRODID:-//bloom.firespring.org//NONSGML kigkonsult.se iCalcreator 2.30.10//
CALSCALE:GREGORIAN
METHOD:PUBLISH
UID:2f4eca64-47e5-4d71-a3c1-e5e856d5e2e2
X-WR-CALDESC:Monthly Board Meeting\n\n
X-WR-RELCALID:7835b7abb94e11ca213937c3af3f1aa7
X-WR-TIMEZONE:America/Chicago
BEGIN:VTIMEZONE
TZID:America/Chicago
BEGIN:STANDARD
TZNAME:CST
DTSTART:20261101T020000
TZOFFSETFROM:-0500
TZOFFSETTO:-0600
RDATE:20271107T020000
RDATE:20281105T020000
END:STANDARD
BEGIN:DAYLIGHT
TZNAME:CDT
DTSTART:20270314T020000
TZOFFSETFROM:-0600
TZOFFSETTO:-0500
RDATE:20280312T020000
END:DAYLIGHT
END:VTIMEZONE
BEGIN:VEVENT
UID:befc80ce-da9f-4f6b-b62b-d53ca458387e
DTSTAMP:20260421T160414Z
DESCRIPTION:Monthly Board Meeting\n\n
DTSTART;TZID=America/Chicago:20270806T183000
DTEND;TZID=America/Chicago:20270806T200000
LOCATION:Atrium Meeting Room
SUMMARY:Board Meeting
END:VEVENT
END:VCALENDAR
