BEGIN:VCALENDAR
VERSION:2.0
PRODID:-//bloom.firespring.org//NONSGML kigkonsult.se iCalcreator 2.30.10//
CALSCALE:GREGORIAN
METHOD:PUBLISH
UID:b4956576-fde6-43b7-a5cc-625fff954f05
X-WR-CALDESC:Monthly Board Meeting\n\n
X-WR-RELCALID:90f952540ce2b2b639aa18e11161e8d4
X-WR-TIMEZONE:America/Chicago
BEGIN:VTIMEZONE
TZID:America/Chicago
BEGIN:STANDARD
TZNAME:CST
DTSTART:20261101T020000
TZOFFSETFROM:-0500
TZOFFSETTO:-0600
RDATE:20271107T020000
END:STANDARD
BEGIN:DAYLIGHT
TZNAME:CDT
DTSTART:20260308T020000
TZOFFSETFROM:-0600
TZOFFSETTO:-0500
RDATE:20270314T020000
RDATE:20280312T020000
END:DAYLIGHT
END:VTIMEZONE
BEGIN:VEVENT
UID:e868c30d-a52c-42f5-a348-eb96ee5e8ce4
DTSTAMP:20260423T083711Z
DESCRIPTION:Monthly Board Meeting\n\n
DTSTART;TZID=America/Chicago:20270305T183000
DTEND;TZID=America/Chicago:20270305T200000
LOCATION:Atrium Meeting Room
SUMMARY:Board Meeting
END:VEVENT
END:VCALENDAR
