BEGIN:VCALENDAR
VERSION:2.0
PRODID:-//bloom.firespring.org//NONSGML kigkonsult.se iCalcreator 2.30.10//
CALSCALE:GREGORIAN
METHOD:PUBLISH
UID:6984107e-b7f7-4ce1-80e8-fc67a0d98f1d
X-WR-CALDESC:Monthly Board Meeting\n\n
X-WR-RELCALID:3b4111bab945b6602af733081c1b9a7e
X-WR-TIMEZONE:America/Chicago
BEGIN:VTIMEZONE
TZID:America/Chicago
BEGIN:STANDARD
TZNAME:CST
DTSTART:20261101T020000
TZOFFSETFROM:-0500
TZOFFSETTO:-0600
RDATE:20271107T020000
END:STANDARD
BEGIN:DAYLIGHT
TZNAME:CDT
DTSTART:20260308T020000
TZOFFSETFROM:-0600
TZOFFSETTO:-0500
RDATE:20270314T020000
RDATE:20280312T020000
END:DAYLIGHT
END:VTIMEZONE
BEGIN:VEVENT
UID:bb3cc87f-a48a-43c9-943d-8b669081c221
DTSTAMP:20260421T063432Z
DESCRIPTION:Monthly Board Meeting\n\n
DTSTART;TZID=America/Chicago:20270205T183000
DTEND;TZID=America/Chicago:20270205T200000
LOCATION:Atrium Meeting Room
SUMMARY:Board Meeting
END:VEVENT
END:VCALENDAR
