BEGIN:VCALENDAR
VERSION:2.0
PRODID:-//bloom.firespring.org//NONSGML kigkonsult.se iCalcreator 2.30.10//
CALSCALE:GREGORIAN
METHOD:PUBLISH
UID:64f837e4-29ea-43fe-847a-bf72a3ad8f1a
X-WR-CALDESC:Monthly Board Meeting\n\n
X-WR-RELCALID:008b9b14f0bcb5e0086ff600b40268fa
X-WR-TIMEZONE:America/Chicago
BEGIN:VTIMEZONE
TZID:America/Chicago
BEGIN:STANDARD
TZNAME:CST
DTSTART:20241103T020000
TZOFFSETFROM:-0500
TZOFFSETTO:-0600
RDATE:20251102T020000
END:STANDARD
BEGIN:DAYLIGHT
TZNAME:CDT
DTSTART:20240310T020000
TZOFFSETFROM:-0600
TZOFFSETTO:-0500
RDATE:20250309T020000
RDATE:20260308T020000
END:DAYLIGHT
END:VTIMEZONE
BEGIN:VEVENT
UID:120ac000-b738-4fa2-a566-0624ca485aab
DTSTAMP:20260423T112656Z
DESCRIPTION:Monthly Board Meeting\n\n
DTSTART;TZID=America/Chicago:20250207T183000
DTEND;TZID=America/Chicago:20250207T200000
LOCATION:Atrium Meeting Room
SUMMARY:Board Meeting
END:VEVENT
END:VCALENDAR
