BEGIN:VCALENDAR
VERSION:2.0
PRODID:-//bloom.firespring.org//NONSGML kigkonsult.se iCalcreator 2.30.10//
CALSCALE:GREGORIAN
METHOD:PUBLISH
UID:cbfcef08-f127-4866-a389-4b95e7d9dae2
X-WR-CALDESC:Monthly Board Meeting\n\n
X-WR-RELCALID:78f0b2034ef22e2f9a38edfeee81a96c
X-WR-TIMEZONE:America/Chicago
BEGIN:VTIMEZONE
TZID:America/Chicago
BEGIN:STANDARD
TZNAME:CST
DTSTART:20231105T020000
TZOFFSETFROM:-0500
TZOFFSETTO:-0600
RDATE:20241103T020000
RDATE:20251102T020000
END:STANDARD
BEGIN:DAYLIGHT
TZNAME:CDT
DTSTART:20240310T020000
TZOFFSETFROM:-0600
TZOFFSETTO:-0500
RDATE:20250309T020000
RDATE:20260308T020000
END:DAYLIGHT
END:VTIMEZONE
BEGIN:VEVENT
UID:20b50399-a5a2-4d00-84c4-dc211eb8eaab
DTSTAMP:20260423T160449Z
DESCRIPTION:Monthly Board Meeting\n\n
DTSTART;TZID=America/Chicago:20241101T183000
DTEND;TZID=America/Chicago:20241101T200000
LOCATION:Atrium Meeting Room
SUMMARY:Board Meeting
END:VEVENT
END:VCALENDAR
